BEGIN:VCALENDAR
VERSION:2.0
PRODID:-//Visit Mendocino County - ECPv6.11.2//NONSGML v1.0//EN
CALSCALE:GREGORIAN
METHOD:PUBLISH
X-WR-CALNAME:Visit Mendocino County
X-ORIGINAL-URL:https://www.visitmendocino.com
X-WR-CALDESC:Events for Visit Mendocino County
REFRESH-INTERVAL;VALUE=DURATION:PT1H
X-Robots-Tag:noindex
X-PUBLISHED-TTL:PT1H
BEGIN:VTIMEZONE
TZID:America/Los_Angeles
BEGIN:DAYLIGHT
TZOFFSETFROM:-0800
TZOFFSETTO:-0700
TZNAME:PDT
DTSTART:20260308T100000
END:DAYLIGHT
BEGIN:STANDARD
TZOFFSETFROM:-0700
TZOFFSETTO:-0800
TZNAME:PST
DTSTART:20261101T090000
END:STANDARD
END:VTIMEZONE
BEGIN:VEVENT
DTSTART;TZID=America/Los_Angeles:20260424T130000
DTEND;TZID=America/Los_Angeles:20260424T150000
DTSTAMP:20260422T082448
CREATED:20260327T164547Z
LAST-MODIFIED:20260421T161904Z
UID:10066234-1777035600-1777042800@www.visitmendocino.com
SUMMARY:Rhododendron Walks
DESCRIPTION:Join us this spring for a guided Rhododendron Walk at Mendocino Coast Botanical Gardens with Dennis McKiver of the American Rhododendron Society’s local chapter. More than 1\,000 rhododendrons can be seen blooming throughout the Gardens during peak bloom in March\, April\, and May. Learn more about the Gardens’ signature collection\, including more than 124 species of rhododendrons and 315 taxa\, many of them developed by the region’s prolific\, enthusiastic\, and generous rhododendron growers! \n2026 Rhododendron Walks:\nMar 20\, Mar 27\, Apr 3\, Apr 10\, Apr 17\, Apr 24 \nThe Details:\nBe prepared for the weather with appropriate layers and wear good walking shoes.\nWe recommend bringing along a refillable water bottle\, a notebook\, a pen\, and a camera if desired.
URL:https://www.visitmendocino.com/event/rhododendron-walks/
LOCATION:Mendocino Coast Botanical Gardens\, 18220 N Hwy 1\, Fort Bragg\, CA\, 95437
CATEGORIES:Education,Family-friendly,Spring
ATTACH;FMTTYPE=image/jpeg:https://www.visitmendocino.com/wp-content/uploads/2026/03/MendocinoDrone-4079.jpg
GEO:39.4091747;-123.8093208
X-APPLE-STRUCTURED-LOCATION;VALUE=URI;X-ADDRESS=Mendocino Coast Botanical Gardens 18220 N Hwy 1 Fort Bragg CA 95437;X-APPLE-RADIUS=500;X-TITLE=18220 N Hwy 1:geo:-123.8093208,39.4091747
END:VEVENT
END:VCALENDAR