BEGIN:VCALENDAR
VERSION:2.0
PRODID:-//Visit Mendocino County - ECPv6.11.2//NONSGML v1.0//EN
CALSCALE:GREGORIAN
METHOD:PUBLISH
X-WR-CALNAME:Visit Mendocino County
X-ORIGINAL-URL:https://www.visitmendocino.com
X-WR-CALDESC:Events for Visit Mendocino County
REFRESH-INTERVAL;VALUE=DURATION:PT1H
X-Robots-Tag:noindex
X-PUBLISHED-TTL:PT1H
BEGIN:VTIMEZONE
TZID:America/Los_Angeles
BEGIN:DAYLIGHT
TZOFFSETFROM:-0800
TZOFFSETTO:-0700
TZNAME:PDT
DTSTART:20260308T100000
END:DAYLIGHT
BEGIN:STANDARD
TZOFFSETFROM:-0700
TZOFFSETTO:-0800
TZNAME:PST
DTSTART:20261101T090000
END:STANDARD
END:VTIMEZONE
BEGIN:VEVENT
DTSTART;TZID=America/Los_Angeles:20260418T120000
DTEND;TZID=America/Los_Angeles:20260418T150000
DTSTAMP:20260421T052142
CREATED:20260323T210316Z
LAST-MODIFIED:20260325T203103Z
UID:10066214-1776513600-1776524400@www.visitmendocino.com
SUMMARY:A Bee-Themed Earth Day Celebration at Terra Sávia
DESCRIPTION:It’s Mother Earth Day! Let’s celebrate the arrival of the spring wildflowers with honeybee-related festivities\, brunch and wine tasting!\nJoin Terra Sávia Winery & Olive Mill\, Duncan Peak Vineyards\, Alta Orsa Winery\, and Powicana Farms for a for and Earth Day celebration for food\, wine\, and farm fun. This year’s theme is all about the bees!\nEvent Details:\nAll Ages\nCrepe brunch (sweet & savory)\, courtesy of Flavors of el Mundo.\nWine Tasting from 4 Wineries\nOlive Mill Tours\nHoney & Olive Oil Tastings\nLabel your own honey jar!\nNative Plant Sale\nFarm animals for the family to feed and socialize!\nAll ages welcome + friendly pets too! It’s one of our favorite annual gatherings—come celebrate with us!
URL:https://www.visitmendocino.com/event/a-bee-themed-earth-day-celebration-at-terra-savia/
LOCATION:Terra Savia Winery & Olive Mill\, 14160 Mountain House Rd.\, Hopland\, CA\, 95449\, United States
CATEGORIES:Education,Fairs and Festivals,Food,Inland,Mendocino County Event Calendar - All Events,Mendocino County Events,Spring,Wine
ATTACH;FMTTYPE=image/png:https://www.visitmendocino.com/wp-content/uploads/2026/03/earth-day-2026-bees-poster.png
GEO:38.9600595;-123.1157343
X-APPLE-STRUCTURED-LOCATION;VALUE=URI;X-ADDRESS=Terra Savia Winery & Olive Mill 14160 Mountain House Rd. Hopland CA 95449 United States;X-APPLE-RADIUS=500;X-TITLE=14160 Mountain House Rd.:geo:-123.1157343,38.9600595
END:VEVENT
END:VCALENDAR