BEGIN:VCALENDAR
VERSION:2.0
PRODID:-//Visit Mendocino County - ECPv6.11.2//NONSGML v1.0//EN
CALSCALE:GREGORIAN
METHOD:PUBLISH
X-WR-CALNAME:Visit Mendocino County
X-ORIGINAL-URL:https://www.visitmendocino.com
X-WR-CALDESC:Events for Visit Mendocino County
REFRESH-INTERVAL;VALUE=DURATION:PT1H
X-Robots-Tag:noindex
X-PUBLISHED-TTL:PT1H
BEGIN:VTIMEZONE
TZID:America/Los_Angeles
BEGIN:DAYLIGHT
TZOFFSETFROM:-0800
TZOFFSETTO:-0700
TZNAME:PDT
DTSTART:20260308T100000
END:DAYLIGHT
BEGIN:STANDARD
TZOFFSETFROM:-0700
TZOFFSETTO:-0800
TZNAME:PST
DTSTART:20261101T090000
END:STANDARD
END:VTIMEZONE
BEGIN:VEVENT
DTSTART;VALUE=DATE:20260906
DTEND;VALUE=DATE:20260907
DTSTAMP:20260425T050739
CREATED:20260406T182256Z
LAST-MODIFIED:20260406T182256Z
UID:10066394-1788681600-1788714000@www.visitmendocino.com
SUMMARY:The Huckleberry Jam
DESCRIPTION:The Huckleberry Jam is a three-day hootenanny in the redwoods—a small\, spirited music and community gathering at Heartwood Mendocino. It’s a long weekend of live music\, camping\, workshops\, shared meals\, and moments that feel easy\, joyful\, and a little bit magical. \nIntentionally intimate and family-friendly\, Huck Jam is a full-weekend experience made for unplugging\, wandering the woods\, dancing barefoot\, and gathering with people of all ages to celebrate music and connection in a beautiful forest setting.
URL:https://www.visitmendocino.com/event/the-huckleberry-jam/2026-09-06/
LOCATION:Heartwood Mendocino\, 40500 Little Lake Rd\, Mendocino\, CA\, 95460\, United States
CATEGORIES:Arts,Coast,Entertainment,Fairs and Festivals,Family-friendly,Food,Music,Nightlife,Outdoor
ATTACH;FMTTYPE=image/avif:https://www.visitmendocino.com/wp-content/uploads/2026/04/Huckleberry-Jam-.avif
END:VEVENT
BEGIN:VEVENT
DTSTART;TZID=America/Los_Angeles:20260912T080000
DTEND;TZID=America/Los_Angeles:20260912T170000
DTSTAMP:20260425T050739
CREATED:20260406T181511Z
LAST-MODIFIED:20260406T181752Z
UID:10066391-1789200000-1789232400@www.visitmendocino.com
SUMMARY:Winesong!
DESCRIPTION:You’re invited to the Winesong celebration at the Mendocino Coast Botanical Gardens!\nJoin us in supporting the Mendocino Coast Healthcare Foundation alongside the best wineries\, breweries\, distillers\, chefs\, local bands & artists.\nThis cherished coastal tradition offers more than just great wine and food—it’s an opportunity to support rural healthcare while exploring the best of what Mendocino County and Northern California have to offer all with the stunning backdrop of the Pacific Ocean at the Mendocino Coast Botanical Gardens.\nDon’t miss this harmonious blend of celebration\, learning\, and appreciation.
URL:https://www.visitmendocino.com/event/winesong/
LOCATION:Mendocino Coast Botanical Gardens\, 18220 N Hwy 1\, Fort Bragg\, CA\, 95437
CATEGORIES:Arts,Coast,Entertainment,Food,Fundraisers,Health and Fitness,Mendocino County Event Calendar - All Events,Mendocino County Events,Music,Outdoor,Wine
ATTACH;FMTTYPE=image/jpeg:https://www.visitmendocino.com/wp-content/uploads/2025/04/VMCWinesong2024SaturdayTastingSilentAuction-82-of-160.jpg
GEO:39.4091747;-123.8093208
X-APPLE-STRUCTURED-LOCATION;VALUE=URI;X-ADDRESS=Mendocino Coast Botanical Gardens 18220 N Hwy 1 Fort Bragg CA 95437;X-APPLE-RADIUS=500;X-TITLE=18220 N Hwy 1:geo:-123.8093208,39.4091747
END:VEVENT
BEGIN:VEVENT
DTSTART;VALUE=DATE:20261009
DTEND;VALUE=DATE:20261013
DTSTAMP:20260425T050739
CREATED:20260424T175552Z
LAST-MODIFIED:20260424T175552Z
UID:10068600-1791504000-1791849599@www.visitmendocino.com
SUMMARY:Kelpfest
DESCRIPTION:The first North Coast KelpFest! was held from mid-May to mid-June 2024\, bringing art\, science\, food and film together to celebrate kelp forests on California’s north coast. This series of events\, held over 5 weekends\, were part of a broader ocean literacy campaign to raise awareness about the decline of kelp forests on California’s North Coast and to support the kelp recovery work underway at Big River\, led by the Nature Conservancy with support from the Ocean Protection Council and California Sea Grant. \nThe second annual KelpFest! 2025 took place over 5 days\, October 3-6\, 2025. Shifting the events to the fall aligned with the end of the annual growing cycle of bull kelp and allowed the Big River Kelp Recovery Project team to complete another season of work and share their two-year restoration successes at KelpFest! Marianna Leuschel and Josie Iselin\, Co-Directors of Above/Below and science communication/community engagement partners on the Big River team\, led a Steering Committee with representatives from 10 community organizations in a highly collaborative planning process to host KelpFest! the first two years. \nIn early 2026\, KelpFest! was reformed to become its own entity\, with the Arts Council of Mendocino County as its fiscal sponsor and with support from Pacific Coast Ocean Restoration (PCOR) Initiative. The Steering Committee is co-chaired this year by Lia Morsell\, with plans to further integrate the festival into the community and scale the events and programs to bring even more visitors to the Mendocino Coast to learn about and celebrate the oceans. Mark your calendars! The third annual North Coast KelpFest! is scheduled on the low tide weekend of October 9–12\, 2026\, in Mendocino and Fort Bragg. A schedule with event details will be available in August of this year.
URL:https://www.visitmendocino.com/event/kelpfest/
LOCATION:Mendocino Village\, Little Lake St\, Mendocino\, CA\, 95460\, United States
CATEGORIES:Coast,Education,Entertainment,Family-friendly,Health and Fitness,Outdoor
ATTACH;FMTTYPE=image/jpeg:https://www.visitmendocino.com/wp-content/uploads/2024/04/bullkelp-site.jpg
END:VEVENT
END:VCALENDAR